BEGIN:VCALENDAR
VERSION:2.0
PRODID:-//Leanis Fort Myers Beach - ECPv6.15.20//NONSGML v1.0//EN
CALSCALE:GREGORIAN
METHOD:PUBLISH
X-ORIGINAL-URL:https://leanis.com
X-WR-CALDESC:Events for Leanis Fort Myers Beach
REFRESH-INTERVAL;VALUE=DURATION:PT1H
X-Robots-Tag:noindex
X-PUBLISHED-TTL:PT1H
BEGIN:VTIMEZONE
TZID:UTC
BEGIN:STANDARD
TZOFFSETFROM:+0000
TZOFFSETTO:+0000
TZNAME:UTC
DTSTART:20250101T000000
END:STANDARD
END:VTIMEZONE
BEGIN:VEVENT
DTSTART;TZID=UTC:20260421T080000
DTEND;TZID=UTC:20260421T130000
DTSTAMP:20260420T132403
CREATED:20260306T183339Z
LAST-MODIFIED:20260306T183339Z
UID:2644-1776758400-1776776400@leanis.com
SUMMARY:Produce Vendor 24karrot
DESCRIPTION:Stock up on all the local produce you need with 24karrots produce in the parking lot of Santini Plaza at 7205 Estero Blvd\, Fort Myers Beach\, FL.   Yummy dishes are just begging to be made!
URL:https://leanis.com/event/produce-vendor-24karrot-38/
CATEGORIES:Find it Where?
END:VEVENT
BEGIN:VEVENT
DTSTART;TZID=UTC:20260421T090000
DTEND;TZID=UTC:20260421T130000
DTSTAMP:20260420T132403
CREATED:20260305T194410Z
LAST-MODIFIED:20260306T010215Z
UID:2473-1776762000-1776776400@leanis.com
SUMMARY:Santini Farmers Market
DESCRIPTION:The seasonal Santini Farmers Market takes place every Tuesday and Thursday from November through April from 9 AM to 1 PM at Santini Plaza on the south end of Fort Myers Beach. Shop local vendors offering fresh produce\, baked goods\, artisan items\, handmade goods\, and other unique products while enjoying a relaxed outdoor market atmosphere.
URL:https://leanis.com/event/santini-farmers-market-13/
CATEGORIES:Farmers Market
END:VEVENT
BEGIN:VEVENT
DTSTART;TZID=UTC:20260422T080000
DTEND;TZID=UTC:20260422T130000
DTSTAMP:20260420T132403
CREATED:20260306T183531Z
LAST-MODIFIED:20260306T183531Z
UID:2648-1776844800-1776862800@leanis.com
SUMMARY:Produce Vendor 24karrot
DESCRIPTION:Stock up on all the local produce you need with 24karrots produce in the parking lot of Santini Plaza at 7205 Estero Blvd\, Fort Myers Beach\, FL.   Yummy dishes are just begging to be made!
URL:https://leanis.com/event/produce-vendor-24karrot-40/
CATEGORIES:Find it Where?
END:VEVENT
BEGIN:VEVENT
DTSTART;TZID=UTC:20260423T080000
DTEND;TZID=UTC:20260423T130000
DTSTAMP:20260420T132403
CREATED:20260306T183440Z
LAST-MODIFIED:20260306T183440Z
UID:2646-1776931200-1776949200@leanis.com
SUMMARY:Produce Vendor 24karrot
DESCRIPTION:Stock up on all the local produce you need with 24karrots produce in the parking lot of Santini Plaza at 7205 Estero Blvd\, Fort Myers Beach\, FL.   Yummy dishes are just begging to be made!
URL:https://leanis.com/event/produce-vendor-24karrot-39/
CATEGORIES:Find it Where?
END:VEVENT
BEGIN:VEVENT
DTSTART;TZID=UTC:20260423T090000
DTEND;TZID=UTC:20260423T130000
DTSTAMP:20260420T132403
CREATED:20260305T194456Z
LAST-MODIFIED:20260306T010221Z
UID:2475-1776934800-1776949200@leanis.com
SUMMARY:Santini Farmers Market
DESCRIPTION:The seasonal Santini Farmers Market takes place every Tuesday and Thursday from November through April from 9 AM to 1 PM at Santini Plaza on the south end of Fort Myers Beach. Shop local vendors offering fresh produce\, baked goods\, artisan items\, handmade goods\, and other unique products while enjoying a relaxed outdoor market atmosphere.
URL:https://leanis.com/event/santini-farmers-market-14/
CATEGORIES:Farmers Market
END:VEVENT
BEGIN:VEVENT
DTSTART;TZID=UTC:20260424T080000
DTEND;TZID=UTC:20260424T130000
DTSTAMP:20260420T132403
CREATED:20260306T183619Z
LAST-MODIFIED:20260306T183619Z
UID:2650-1777017600-1777035600@leanis.com
SUMMARY:Produce Vendor 24karrot
DESCRIPTION:Stock up on all the local produce you need with 24karrots produce in the parking lot of Santini Plaza at 7205 Estero Blvd\, Fort Myers Beach\, FL.   Yummy dishes are just begging to be made!
URL:https://leanis.com/event/produce-vendor-24karrot-41/
CATEGORIES:Find it Where?
END:VEVENT
BEGIN:VEVENT
DTSTART;TZID=UTC:20260425T080000
DTEND;TZID=UTC:20260425T130000
DTSTAMP:20260420T132403
CREATED:20260306T183737Z
LAST-MODIFIED:20260306T183737Z
UID:2652-1777104000-1777122000@leanis.com
SUMMARY:Produce Vendor 24karrot
DESCRIPTION:Stock up on all the local produce you need with 24karrots produce in the parking lot of Santini Plaza at 7205 Estero Blvd\, Fort Myers Beach\, FL.   Yummy dishes are just begging to be made!
URL:https://leanis.com/event/produce-vendor-24karrot-42/
CATEGORIES:Find it Where?
END:VEVENT
BEGIN:VEVENT
DTSTART;TZID=UTC:20260428T080000
DTEND;TZID=UTC:20260428T130000
DTSTAMP:20260420T132403
CREATED:20260306T184218Z
LAST-MODIFIED:20260306T184218Z
UID:2658-1777363200-1777381200@leanis.com
SUMMARY:Produce Vendor 24karrot
DESCRIPTION:Stock up on all the local produce you need with 24karrots produce in the parking lot of Santini Plaza at 7205 Estero Blvd\, Fort Myers Beach\, FL.   Yummy dishes are just begging to be made!  Produce Vendor 24karrot
URL:https://leanis.com/event/produce-vendor-24karrot-44/
CATEGORIES:Find it Where?
END:VEVENT
BEGIN:VEVENT
DTSTART;TZID=UTC:20260428T090000
DTEND;TZID=UTC:20260428T130000
DTSTAMP:20260420T132403
CREATED:20260305T194559Z
LAST-MODIFIED:20260306T010226Z
UID:2477-1777366800-1777381200@leanis.com
SUMMARY:Santini Farmers Market
DESCRIPTION:The seasonal Santini Farmers Market takes place every Tuesday and Thursday from November through April from 9 AM to 1 PM at Santini Plaza on the south end of Fort Myers Beach. Shop local vendors offering fresh produce\, baked goods\, artisan items\, handmade goods\, and other unique products while enjoying a relaxed outdoor market atmosphere.
URL:https://leanis.com/event/santini-farmers-market-15/
CATEGORIES:Farmers Market
END:VEVENT
BEGIN:VEVENT
DTSTART;TZID=UTC:20260429T080000
DTEND;TZID=UTC:20260429T130000
DTSTAMP:20260420T132403
CREATED:20260306T184043Z
LAST-MODIFIED:20260306T184043Z
UID:2656-1777449600-1777467600@leanis.com
SUMMARY:Produce Vendor 24karrot
DESCRIPTION:Stock up on all the local produce you need with 24karrots produce in the parking lot of Santini Plaza at 7205 Estero Blvd\, Fort Myers Beach\, FL.   Yummy dishes are just begging to be made!
URL:https://leanis.com/event/produce-vendor-24karrot-43/
CATEGORIES:Find it Where?
END:VEVENT
BEGIN:VEVENT
DTSTART;TZID=UTC:20260430T080000
DTEND;TZID=UTC:20260430T130000
DTSTAMP:20260420T132403
CREATED:20260306T184259Z
LAST-MODIFIED:20260306T184309Z
UID:2660-1777536000-1777554000@leanis.com
SUMMARY:Produce Vendor 24karrot
DESCRIPTION:Stock up on all the local produce you need with 24karrots produce in the parking lot of Santini Plaza at 7205 Estero Blvd\, Fort Myers Beach\, FL.   Yummy dishes are just begging to be made!
URL:https://leanis.com/event/produce-vendor-24karrot-45/
CATEGORIES:Find it Where?
END:VEVENT
BEGIN:VEVENT
DTSTART;TZID=UTC:20260430T090000
DTEND;TZID=UTC:20260430T130000
DTSTAMP:20260420T132403
CREATED:20260305T194656Z
LAST-MODIFIED:20260306T010236Z
UID:2479-1777539600-1777554000@leanis.com
SUMMARY:Santini Farmers Market
DESCRIPTION:The seasonal Santini Farmers Market takes place every Tuesday and Thursday from November through April from 9 AM to 1 PM at Santini Plaza on the south end of Fort Myers Beach. Shop local vendors offering fresh produce\, baked goods\, artisan items\, handmade goods\, and other unique products while enjoying a relaxed outdoor market atmosphere.
URL:https://leanis.com/event/santini-farmers-market-16/
CATEGORIES:Farmers Market
END:VEVENT
END:VCALENDAR