BEGIN:VCALENDAR
VERSION:2.0
PRODID:-//Leanis Fort Myers Beach - ECPv6.15.20//NONSGML v1.0//EN
CALSCALE:GREGORIAN
METHOD:PUBLISH
X-ORIGINAL-URL:https://leanis.com
X-WR-CALDESC:Events for Leanis Fort Myers Beach
REFRESH-INTERVAL;VALUE=DURATION:PT1H
X-Robots-Tag:noindex
X-PUBLISHED-TTL:PT1H
BEGIN:VTIMEZONE
TZID:UTC
BEGIN:STANDARD
TZOFFSETFROM:+0000
TZOFFSETTO:+0000
TZNAME:UTC
DTSTART:20250101T000000
END:STANDARD
END:VTIMEZONE
BEGIN:VEVENT
DTSTART;TZID=UTC:20260407T080000
DTEND;TZID=UTC:20260407T130000
DTSTAMP:20260420T193528
CREATED:20260306T172004Z
LAST-MODIFIED:20260306T172004Z
UID:2620-1775548800-1775566800@leanis.com
SUMMARY:Produce Vendor 24karrot
DESCRIPTION:Stock up on all the local produce you need with 24karrots produce in the parking lot of Santini Plaza at 7205 Estero Blvd\, Fort Myers Beach\, FL.   Yummy dishes are just begging to be made!
URL:https://leanis.com/event/produce-vendor-24karrot-28/
CATEGORIES:Find it Where?
END:VEVENT
BEGIN:VEVENT
DTSTART;TZID=UTC:20260407T090000
DTEND;TZID=UTC:20260407T130000
DTSTAMP:20260420T193528
CREATED:20260305T193903Z
LAST-MODIFIED:20260306T010107Z
UID:2463-1775552400-1775566800@leanis.com
SUMMARY:Santini Farmers Market
DESCRIPTION:The seasonal Santini Farmers Market takes place every Tuesday and Thursday from November through April from 9 AM to 1 PM at Santini Plaza on the south end of Fort Myers Beach. Shop local vendors offering fresh produce\, baked goods\, artisan items\, handmade goods\, and other unique products while enjoying a relaxed outdoor market atmosphere.
URL:https://leanis.com/event/santini-farmers-market-8/
CATEGORIES:Farmers Market
END:VEVENT
BEGIN:VEVENT
DTSTART;TZID=UTC:20260408T080000
DTEND;TZID=UTC:20260408T130000
DTSTAMP:20260420T193528
CREATED:20260306T172046Z
LAST-MODIFIED:20260306T172046Z
UID:2622-1775635200-1775653200@leanis.com
SUMMARY:Produce Vendor 24karrot
DESCRIPTION:Stock up on all the local produce you need with 24karrots produce in the parking lot of Santini Plaza at 7205 Estero Blvd\, Fort Myers Beach\, FL.   Yummy dishes are just begging to be made!
URL:https://leanis.com/event/produce-vendor-24karrot-29/
CATEGORIES:Find it Where?
END:VEVENT
BEGIN:VEVENT
DTSTART;TZID=UTC:20260409T080000
DTEND;TZID=UTC:20260409T130000
DTSTAMP:20260420T193528
CREATED:20260306T172134Z
LAST-MODIFIED:20260306T172134Z
UID:2624-1775721600-1775739600@leanis.com
SUMMARY:Produce Vendor 24karrot
DESCRIPTION:Stock up on all the local produce you need with 24karrots produce in the parking lot of Santini Plaza at 7205 Estero Blvd\, Fort Myers Beach\, FL.   Yummy dishes are just begging to be made!
URL:https://leanis.com/event/produce-vendor-24karrot-30/
CATEGORIES:Find it Where?
END:VEVENT
BEGIN:VEVENT
DTSTART;TZID=UTC:20260409T090000
DTEND;TZID=UTC:20260409T130000
DTSTAMP:20260420T193528
CREATED:20260305T194111Z
LAST-MODIFIED:20260306T010114Z
UID:2467-1775725200-1775739600@leanis.com
SUMMARY:Santini Farmers Market
DESCRIPTION:The seasonal Santini Farmers Market takes place every Tuesday and Thursday from November through April from 9 AM to 1 PM at Santini Plaza on the south end of Fort Myers Beach. Shop local vendors offering fresh produce\, baked goods\, artisan items\, handmade goods\, and other unique products while enjoying a relaxed outdoor market atmosphere.
URL:https://leanis.com/event/santini-farmers-market-10/
CATEGORIES:Farmers Market
END:VEVENT
BEGIN:VEVENT
DTSTART;TZID=UTC:20260410T080000
DTEND;TZID=UTC:20260410T130000
DTSTAMP:20260420T193528
CREATED:20260306T182353Z
LAST-MODIFIED:20260306T182353Z
UID:2629-1775808000-1775826000@leanis.com
SUMMARY:Produce Vendor 24karrot
DESCRIPTION:Stock up on all the local produce you need with 24karrots produce in the parking lot of Santini Plaza at 7205 Estero Blvd\, Fort Myers Beach\, FL.   Yummy dishes are just begging to be made!
URL:https://leanis.com/event/produce-vendor-24karrot-31/
CATEGORIES:Find it Where?
END:VEVENT
BEGIN:VEVENT
DTSTART;TZID=UTC:20260411T080000
DTEND;TZID=UTC:20260411T130000
DTSTAMP:20260420T193528
CREATED:20260306T182448Z
LAST-MODIFIED:20260306T182448Z
UID:2631-1775894400-1775912400@leanis.com
SUMMARY:Produce Vendor 24karrot
DESCRIPTION:Stock up on all the local produce you need with 24karrots produce in the parking lot of Santini Plaza at 7205 Estero Blvd\, Fort Myers Beach\, FL.   Yummy dishes are just begging to be made!
URL:https://leanis.com/event/produce-vendor-24karrot-32/
CATEGORIES:Find it Where?
END:VEVENT
BEGIN:VEVENT
DTSTART;TZID=UTC:20260411T090000
DTEND;TZID=UTC:20260411T140000
DTSTAMP:20260420T193528
CREATED:20260305T205956Z
LAST-MODIFIED:20260306T010120Z
UID:2512-1775898000-1775916000@leanis.com
SUMMARY:Art Show
DESCRIPTION:An art show organized by 41Markets.com  will be held on April 11th\, 2026.   For more information visit:  https://www.41markets.com/events
URL:https://leanis.com/event/ft-myers-beach-art-association/
CATEGORIES:Art Show
END:VEVENT
BEGIN:VEVENT
DTSTART;TZID=UTC:20260411T190000
DTEND;TZID=UTC:20260411T230000
DTSTAMP:20260420T193528
CREATED:20260306T011821Z
LAST-MODIFIED:20260306T191657Z
UID:2544-1775934000-1775948400@leanis.com
SUMMARY:FMB Community Foundation Casino Night
DESCRIPTION:Hosted by the Fort Myers Beach Community Foundation\, this lively Casino Night at Margaritaville Resort brings the island together for an evening of fun and friendly stakes. \nCasino Night \n \n 
URL:https://leanis.com/event/fmb-community-foundation-casino-night/
CATEGORIES:FMB Things To Do
END:VEVENT
BEGIN:VEVENT
DTSTART;TZID=UTC:20260414T080000
DTEND;TZID=UTC:20260414T130000
DTSTAMP:20260420T193528
CREATED:20260306T182532Z
LAST-MODIFIED:20260306T182532Z
UID:2633-1776153600-1776171600@leanis.com
SUMMARY:Produce Vendor 24karrot
DESCRIPTION:Stock up on all the local produce you need with 24karrots produce in the parking lot of Santini Plaza at 7205 Estero Blvd\, Fort Myers Beach\, FL.   Yummy dishes are just begging to be made!
URL:https://leanis.com/event/produce-vendor-24karrot-33/
CATEGORIES:Find it Where?
END:VEVENT
BEGIN:VEVENT
DTSTART;TZID=UTC:20260414T090000
DTEND;TZID=UTC:20260414T130000
DTSTAMP:20260420T193528
CREATED:20260305T194226Z
LAST-MODIFIED:20260306T010155Z
UID:2469-1776157200-1776171600@leanis.com
SUMMARY:Santini Farmers Market
DESCRIPTION:The seasonal Santini Farmers Market takes place every Tuesday and Thursday from November through April from 9 AM to 1 PM at Santini Plaza on the south end of Fort Myers Beach. Shop local vendors offering fresh produce\, baked goods\, artisan items\, handmade goods\, and other unique products while enjoying a relaxed outdoor market atmosphere.
URL:https://leanis.com/event/santini-farmers-market-11/
CATEGORIES:Farmers Market
END:VEVENT
BEGIN:VEVENT
DTSTART;TZID=UTC:20260415T080000
DTEND;TZID=UTC:20260415T130000
DTSTAMP:20260420T193528
CREATED:20260306T182648Z
LAST-MODIFIED:20260306T182648Z
UID:2636-1776240000-1776258000@leanis.com
SUMMARY:Produce Vendor 24karrot
DESCRIPTION:Stock up on all the local produce you need with 24karrots produce in the parking lot of Santini Plaza at 7205 Estero Blvd\, Fort Myers Beach\, FL.   Yummy dishes are just begging to be made!
URL:https://leanis.com/event/produce-vendor-24karrot-34/
CATEGORIES:Find it Where?
END:VEVENT
BEGIN:VEVENT
DTSTART;TZID=UTC:20260416T080000
DTEND;TZID=UTC:20260416T130000
DTSTAMP:20260420T193528
CREATED:20260306T182740Z
LAST-MODIFIED:20260306T182740Z
UID:2638-1776326400-1776344400@leanis.com
SUMMARY:Produce Vendor 24karrot
DESCRIPTION:Stock up on all the local produce you need with 24karrots produce in the parking lot of Santini Plaza at 7205 Estero Blvd\, Fort Myers Beach\, FL.   Yummy dishes are just begging to be made!
URL:https://leanis.com/event/produce-vendor-24karrot-35/
CATEGORIES:Find it Where?
END:VEVENT
BEGIN:VEVENT
DTSTART;TZID=UTC:20260416T090000
DTEND;TZID=UTC:20260416T130000
DTSTAMP:20260420T193528
CREATED:20260305T194314Z
LAST-MODIFIED:20260306T010210Z
UID:2471-1776330000-1776344400@leanis.com
SUMMARY:Santini Farmers Market
DESCRIPTION:The seasonal Santini Farmers Market takes place every Tuesday and Thursday from November through April from 9 AM to 1 PM at Santini Plaza on the south end of Fort Myers Beach. Shop local vendors offering fresh produce\, baked goods\, artisan items\, handmade goods\, and other unique products while enjoying a relaxed outdoor market atmosphere.
URL:https://leanis.com/event/santini-farmers-market-12/
CATEGORIES:Farmers Market
END:VEVENT
BEGIN:VEVENT
DTSTART;TZID=UTC:20260417T080000
DTEND;TZID=UTC:20260417T130000
DTSTAMP:20260420T193528
CREATED:20260306T182833Z
LAST-MODIFIED:20260306T182833Z
UID:2640-1776412800-1776430800@leanis.com
SUMMARY:Produce Vendor 24karrot
DESCRIPTION:Stock up on all the local produce you need with 24karrots produce in the parking lot of Santini Plaza at 7205 Estero Blvd\, Fort Myers Beach\, FL.   Yummy dishes are just begging to be made!
URL:https://leanis.com/event/produce-vendor-24karrot-36/
CATEGORIES:Find it Where?
END:VEVENT
BEGIN:VEVENT
DTSTART;TZID=UTC:20260418T080000
DTEND;TZID=UTC:20260418T130000
DTSTAMP:20260420T193528
CREATED:20260306T183253Z
LAST-MODIFIED:20260306T183253Z
UID:2642-1776499200-1776517200@leanis.com
SUMMARY:Produce Vendor 24karrot
DESCRIPTION:Stock up on all the local produce you need with 24karrots produce in the parking lot of Santini Plaza at 7205 Estero Blvd\, Fort Myers Beach\, FL.   Yummy dishes are just begging to be made!
URL:https://leanis.com/event/produce-vendor-24karrot-37/
CATEGORIES:Find it Where?
END:VEVENT
BEGIN:VEVENT
DTSTART;TZID=UTC:20260421T080000
DTEND;TZID=UTC:20260421T130000
DTSTAMP:20260420T193528
CREATED:20260306T183339Z
LAST-MODIFIED:20260306T183339Z
UID:2644-1776758400-1776776400@leanis.com
SUMMARY:Produce Vendor 24karrot
DESCRIPTION:Stock up on all the local produce you need with 24karrots produce in the parking lot of Santini Plaza at 7205 Estero Blvd\, Fort Myers Beach\, FL.   Yummy dishes are just begging to be made!
URL:https://leanis.com/event/produce-vendor-24karrot-38/
CATEGORIES:Find it Where?
END:VEVENT
BEGIN:VEVENT
DTSTART;TZID=UTC:20260421T090000
DTEND;TZID=UTC:20260421T130000
DTSTAMP:20260420T193528
CREATED:20260305T194410Z
LAST-MODIFIED:20260306T010215Z
UID:2473-1776762000-1776776400@leanis.com
SUMMARY:Santini Farmers Market
DESCRIPTION:The seasonal Santini Farmers Market takes place every Tuesday and Thursday from November through April from 9 AM to 1 PM at Santini Plaza on the south end of Fort Myers Beach. Shop local vendors offering fresh produce\, baked goods\, artisan items\, handmade goods\, and other unique products while enjoying a relaxed outdoor market atmosphere.
URL:https://leanis.com/event/santini-farmers-market-13/
CATEGORIES:Farmers Market
END:VEVENT
BEGIN:VEVENT
DTSTART;TZID=UTC:20260422T080000
DTEND;TZID=UTC:20260422T130000
DTSTAMP:20260420T193528
CREATED:20260306T183531Z
LAST-MODIFIED:20260306T183531Z
UID:2648-1776844800-1776862800@leanis.com
SUMMARY:Produce Vendor 24karrot
DESCRIPTION:Stock up on all the local produce you need with 24karrots produce in the parking lot of Santini Plaza at 7205 Estero Blvd\, Fort Myers Beach\, FL.   Yummy dishes are just begging to be made!
URL:https://leanis.com/event/produce-vendor-24karrot-40/
CATEGORIES:Find it Where?
END:VEVENT
BEGIN:VEVENT
DTSTART;TZID=UTC:20260423T080000
DTEND;TZID=UTC:20260423T130000
DTSTAMP:20260420T193528
CREATED:20260306T183440Z
LAST-MODIFIED:20260306T183440Z
UID:2646-1776931200-1776949200@leanis.com
SUMMARY:Produce Vendor 24karrot
DESCRIPTION:Stock up on all the local produce you need with 24karrots produce in the parking lot of Santini Plaza at 7205 Estero Blvd\, Fort Myers Beach\, FL.   Yummy dishes are just begging to be made!
URL:https://leanis.com/event/produce-vendor-24karrot-39/
CATEGORIES:Find it Where?
END:VEVENT
BEGIN:VEVENT
DTSTART;TZID=UTC:20260423T090000
DTEND;TZID=UTC:20260423T130000
DTSTAMP:20260420T193528
CREATED:20260305T194456Z
LAST-MODIFIED:20260306T010221Z
UID:2475-1776934800-1776949200@leanis.com
SUMMARY:Santini Farmers Market
DESCRIPTION:The seasonal Santini Farmers Market takes place every Tuesday and Thursday from November through April from 9 AM to 1 PM at Santini Plaza on the south end of Fort Myers Beach. Shop local vendors offering fresh produce\, baked goods\, artisan items\, handmade goods\, and other unique products while enjoying a relaxed outdoor market atmosphere.
URL:https://leanis.com/event/santini-farmers-market-14/
CATEGORIES:Farmers Market
END:VEVENT
BEGIN:VEVENT
DTSTART;TZID=UTC:20260424T080000
DTEND;TZID=UTC:20260424T130000
DTSTAMP:20260420T193528
CREATED:20260306T183619Z
LAST-MODIFIED:20260306T183619Z
UID:2650-1777017600-1777035600@leanis.com
SUMMARY:Produce Vendor 24karrot
DESCRIPTION:Stock up on all the local produce you need with 24karrots produce in the parking lot of Santini Plaza at 7205 Estero Blvd\, Fort Myers Beach\, FL.   Yummy dishes are just begging to be made!
URL:https://leanis.com/event/produce-vendor-24karrot-41/
CATEGORIES:Find it Where?
END:VEVENT
BEGIN:VEVENT
DTSTART;TZID=UTC:20260425T080000
DTEND;TZID=UTC:20260425T130000
DTSTAMP:20260420T193528
CREATED:20260306T183737Z
LAST-MODIFIED:20260306T183737Z
UID:2652-1777104000-1777122000@leanis.com
SUMMARY:Produce Vendor 24karrot
DESCRIPTION:Stock up on all the local produce you need with 24karrots produce in the parking lot of Santini Plaza at 7205 Estero Blvd\, Fort Myers Beach\, FL.   Yummy dishes are just begging to be made!
URL:https://leanis.com/event/produce-vendor-24karrot-42/
CATEGORIES:Find it Where?
END:VEVENT
BEGIN:VEVENT
DTSTART;TZID=UTC:20260428T080000
DTEND;TZID=UTC:20260428T130000
DTSTAMP:20260420T193528
CREATED:20260306T184218Z
LAST-MODIFIED:20260306T184218Z
UID:2658-1777363200-1777381200@leanis.com
SUMMARY:Produce Vendor 24karrot
DESCRIPTION:Stock up on all the local produce you need with 24karrots produce in the parking lot of Santini Plaza at 7205 Estero Blvd\, Fort Myers Beach\, FL.   Yummy dishes are just begging to be made!  Produce Vendor 24karrot
URL:https://leanis.com/event/produce-vendor-24karrot-44/
CATEGORIES:Find it Where?
END:VEVENT
BEGIN:VEVENT
DTSTART;TZID=UTC:20260428T090000
DTEND;TZID=UTC:20260428T130000
DTSTAMP:20260420T193528
CREATED:20260305T194559Z
LAST-MODIFIED:20260306T010226Z
UID:2477-1777366800-1777381200@leanis.com
SUMMARY:Santini Farmers Market
DESCRIPTION:The seasonal Santini Farmers Market takes place every Tuesday and Thursday from November through April from 9 AM to 1 PM at Santini Plaza on the south end of Fort Myers Beach. Shop local vendors offering fresh produce\, baked goods\, artisan items\, handmade goods\, and other unique products while enjoying a relaxed outdoor market atmosphere.
URL:https://leanis.com/event/santini-farmers-market-15/
CATEGORIES:Farmers Market
END:VEVENT
BEGIN:VEVENT
DTSTART;TZID=UTC:20260429T080000
DTEND;TZID=UTC:20260429T130000
DTSTAMP:20260420T193528
CREATED:20260306T184043Z
LAST-MODIFIED:20260306T184043Z
UID:2656-1777449600-1777467600@leanis.com
SUMMARY:Produce Vendor 24karrot
DESCRIPTION:Stock up on all the local produce you need with 24karrots produce in the parking lot of Santini Plaza at 7205 Estero Blvd\, Fort Myers Beach\, FL.   Yummy dishes are just begging to be made!
URL:https://leanis.com/event/produce-vendor-24karrot-43/
CATEGORIES:Find it Where?
END:VEVENT
BEGIN:VEVENT
DTSTART;TZID=UTC:20260430T080000
DTEND;TZID=UTC:20260430T130000
DTSTAMP:20260420T193528
CREATED:20260306T184259Z
LAST-MODIFIED:20260306T184309Z
UID:2660-1777536000-1777554000@leanis.com
SUMMARY:Produce Vendor 24karrot
DESCRIPTION:Stock up on all the local produce you need with 24karrots produce in the parking lot of Santini Plaza at 7205 Estero Blvd\, Fort Myers Beach\, FL.   Yummy dishes are just begging to be made!
URL:https://leanis.com/event/produce-vendor-24karrot-45/
CATEGORIES:Find it Where?
END:VEVENT
BEGIN:VEVENT
DTSTART;TZID=UTC:20260430T090000
DTEND;TZID=UTC:20260430T130000
DTSTAMP:20260420T193528
CREATED:20260305T194656Z
LAST-MODIFIED:20260306T010236Z
UID:2479-1777539600-1777554000@leanis.com
SUMMARY:Santini Farmers Market
DESCRIPTION:The seasonal Santini Farmers Market takes place every Tuesday and Thursday from November through April from 9 AM to 1 PM at Santini Plaza on the south end of Fort Myers Beach. Shop local vendors offering fresh produce\, baked goods\, artisan items\, handmade goods\, and other unique products while enjoying a relaxed outdoor market atmosphere.
URL:https://leanis.com/event/santini-farmers-market-16/
CATEGORIES:Farmers Market
END:VEVENT
BEGIN:VEVENT
DTSTART;TZID=UTC:20260523T000000
DTEND;TZID=UTC:20260523T000000
DTSTAMP:20260420T193528
CREATED:20260330T194001Z
LAST-MODIFIED:20260330T195059Z
UID:2725-1779494400-1779494400@leanis.com
SUMMARY:Cars & Coffee Ft. Myers Beach
DESCRIPTION:
URL:https://leanis.com/event/cars-coffee-ft-myers-beach/
CATEGORIES:FMB Things To Do
END:VEVENT
BEGIN:VEVENT
DTSTART;TZID=UTC:20260620T000000
DTEND;TZID=UTC:20260620T000000
DTSTAMP:20260420T193528
CREATED:20260330T194109Z
LAST-MODIFIED:20260330T195052Z
UID:2727-1781913600-1781913600@leanis.com
SUMMARY:Cars & Coffee Ft. Myers Beach
DESCRIPTION:
URL:https://leanis.com/event/cars-coffee-ft-myers-beach-2/
CATEGORIES:FMB Things To Do
END:VEVENT
END:VCALENDAR