BEGIN:VCALENDAR
VERSION:2.0
PRODID:-//Leanis Fort Myers Beach - ECPv6.15.20//NONSGML v1.0//EN
CALSCALE:GREGORIAN
METHOD:PUBLISH
X-WR-CALNAME:Leanis Fort Myers Beach
X-ORIGINAL-URL:https://leanis.com
X-WR-CALDESC:Events for Leanis Fort Myers Beach
REFRESH-INTERVAL;VALUE=DURATION:PT1H
X-Robots-Tag:noindex
X-PUBLISHED-TTL:PT1H
BEGIN:VTIMEZONE
TZID:UTC
BEGIN:STANDARD
TZOFFSETFROM:+0000
TZOFFSETTO:+0000
TZNAME:UTC
DTSTART:20250101T000000
END:STANDARD
END:VTIMEZONE
BEGIN:VEVENT
DTSTART;TZID=UTC:20260321T080000
DTEND;TZID=UTC:20260321T130000
DTSTAMP:20260420T205127
CREATED:20260306T163248Z
LAST-MODIFIED:20260306T163248Z
UID:2592-1774080000-1774098000@leanis.com
SUMMARY:Produce Vendor 24karrot
DESCRIPTION:Stock up on all the local produce you need with 24karrots produce in the parking lot of Santini Plaza at 7205 Estero Blvd\, Fort Myers Beach\, FL.   Yummy dishes are just begging to be made!
URL:https://leanis.com/event/produce-vendor-24karrot-15/
CATEGORIES:Find it Where?
END:VEVENT
BEGIN:VEVENT
DTSTART;TZID=UTC:20260320T080000
DTEND;TZID=UTC:20260320T130000
DTSTAMP:20260420T205127
CREATED:20260306T163631Z
LAST-MODIFIED:20260306T163631Z
UID:2594-1773993600-1774011600@leanis.com
SUMMARY:Produce Vendor 24karrot
DESCRIPTION:Stock up on all the local produce you need with 24karrots produce in the parking lot of Santini Plaza at 7205 Estero Blvd\, Fort Myers Beach\, FL.   Yummy dishes are just begging to be made!
URL:https://leanis.com/event/produce-vendor-24karrot-16/
CATEGORIES:Find it Where?
END:VEVENT
BEGIN:VEVENT
DTSTART;TZID=UTC:20260319T100000
DTEND;TZID=UTC:20260319T130000
DTSTAMP:20260420T205127
CREATED:20260306T003422Z
LAST-MODIFIED:20260306T010011Z
UID:2530-1773914400-1773925200@leanis.com
SUMMARY:Gulf Coast Writers Book Signing
DESCRIPTION:The GCWA is a Fort Myers-based non-profit for writers\, editors\, and creatives in Southwest Florida.  Come meet the authors during the book signing event!
URL:https://leanis.com/event/gulf-coast-writers-book-signing/
CATEGORIES:Book Signing
END:VEVENT
BEGIN:VEVENT
DTSTART;TZID=UTC:20260319T090000
DTEND;TZID=UTC:20260319T130000
DTSTAMP:20260420T205127
CREATED:20260305T193438Z
LAST-MODIFIED:20260306T010001Z
UID:2455-1773910800-1773925200@leanis.com
SUMMARY:Santini Farmers Market
DESCRIPTION:The seasonal Santini Farmers Market takes place every Tuesday and Thursday from November through April from 9 AM to 1 PM at Santini Plaza on the south end of Fort Myers Beach. Shop local vendors offering fresh produce\, baked goods\, artisan items\, handmade goods\, and other unique products while enjoying a relaxed outdoor market atmosphere.
URL:https://leanis.com/event/santini-farmers-market-4/
CATEGORIES:Farmers Market
END:VEVENT
BEGIN:VEVENT
DTSTART;TZID=UTC:20260319T080000
DTEND;TZID=UTC:20260319T130000
DTSTAMP:20260420T205127
CREATED:20260306T162842Z
LAST-MODIFIED:20260306T163101Z
UID:2590-1773907200-1773925200@leanis.com
SUMMARY:Produce Vendor 24karrot
DESCRIPTION:Stock up on all the local produce you need with 24karrots produce in the parking lot of Santini Plaza at 7205 Estero Blvd\, Fort Myers Beach\, FL.   Yummy dishes are just begging to be made!
URL:https://leanis.com/event/produce-vendor-24karrot-14/
CATEGORIES:Find it Where?
END:VEVENT
BEGIN:VEVENT
DTSTART;TZID=UTC:20260318T080000
DTEND;TZID=UTC:20260318T130000
DTSTAMP:20260420T205127
CREATED:20260306T162706Z
LAST-MODIFIED:20260306T162706Z
UID:2586-1773820800-1773838800@leanis.com
SUMMARY:Produce Vendor 24karrot
DESCRIPTION:Stock up on all the local produce you need with 24karrots produce in the parking lot of Santini Plaza at 7205 Estero Blvd\, Fort Myers Beach\, FL.   Yummy dishes are just begging to be made!
URL:https://leanis.com/event/produce-vendor-24karrot-12/
CATEGORIES:Find it Where?
END:VEVENT
BEGIN:VEVENT
DTSTART;TZID=UTC:20260317T090000
DTEND;TZID=UTC:20260317T130000
DTSTAMP:20260420T205127
CREATED:20260305T193302Z
LAST-MODIFIED:20260306T010134Z
UID:2453-1773738000-1773752400@leanis.com
SUMMARY:Santini Farmers Market
DESCRIPTION:The seasonal Santini Farmers Market takes place every Tuesday and Thursday from November through April from 9 AM to 1 PM at Santini Plaza on the south end of Fort Myers Beach. Shop local vendors offering fresh produce\, baked goods\, artisan items\, handmade goods\, and other unique products while enjoying a relaxed outdoor market atmosphere.
URL:https://leanis.com/event/santini-farmers-market-3/
CATEGORIES:Farmers Market
END:VEVENT
BEGIN:VEVENT
DTSTART;TZID=UTC:20260317T080000
DTEND;TZID=UTC:20260317T130000
DTSTAMP:20260420T205127
CREATED:20260306T162603Z
LAST-MODIFIED:20260306T162603Z
UID:2584-1773734400-1773752400@leanis.com
SUMMARY:Produce Vendor 24karrot
DESCRIPTION:Stock up on all the local produce you need with 24karrots produce in the parking lot of Santini Plaza at 7205 Estero Blvd\, Fort Myers Beach\, FL.   Yummy dishes are just begging to be made!
URL:https://leanis.com/event/produce-vendor-24karrot-11/
CATEGORIES:Find it Where?
END:VEVENT
BEGIN:VEVENT
DTSTART;TZID=UTC:20260314T080000
DTEND;TZID=UTC:20260314T130000
DTSTAMP:20260420T205127
CREATED:20260306T162204Z
LAST-MODIFIED:20260306T162519Z
UID:2578-1773475200-1773493200@leanis.com
SUMMARY:Produce Vendor 24karrot
DESCRIPTION:Stock up on all the local produce you need with 24karrots produce in the parking lot of Santini Plaza at 7205 Estero Blvd\, Fort Myers Beach\, FL.   Yummy dishes are just begging to be made!
URL:https://leanis.com/event/produce-vendor-24karrot-9/
CATEGORIES:Find it Where?
END:VEVENT
BEGIN:VEVENT
DTSTART;TZID=UTC:20260314T080000
DTEND;TZID=UTC:20260314T130000
DTSTAMP:20260420T205127
CREATED:20260305T233950Z
LAST-MODIFIED:20260306T005953Z
UID:2526-1773475200-1773493200@leanis.com
SUMMARY:Margo Carey & Michelle Clifton Book Signing
DESCRIPTION:Come spend the morning surrounded by stories\, inspiration\, and fellow book enthusiasts!  Come visit her at Annette’s Book Nook!
URL:https://leanis.com/event/margo-carey-book-signing/
CATEGORIES:Book Signing
END:VEVENT
BEGIN:VEVENT
DTSTART;VALUE=DATE:20260314
DTEND;VALUE=DATE:20260315
DTSTAMP:20260420T205127
CREATED:20260306T191056Z
LAST-MODIFIED:20260306T191126Z
UID:2663-1773446400-1773532799@leanis.com
SUMMARY:Fort Myers Beach St. Patrick’s Day Parade 2026
DESCRIPTION:The 2026 Fort Myers Beach St. Patrick’s Day Parade kicks off at: \n Date: Saturday\, March 14\, 2026 Time: 10:00 AM \n Parade Route: \n\n\nStart: Santini Plaza – 7205 Estero Blvd \n\n\nFinish: Ft Myers Beach Woman’s Club – 175 Sterling Ave \n\n\nFort Myers Beach St. Patrick’s Day Parade 2026 – A Celebration of Community\, Comeback\, and a Little Irish Luck 🍀
URL:https://leanis.com/event/fort-myers-beach-st-patricks-day-parade-2026/
CATEGORIES:Annual FMB Event
END:VEVENT
BEGIN:VEVENT
DTSTART;TZID=UTC:20260313T100000
DTEND;TZID=UTC:20260313T130000
DTSTAMP:20260420T205127
CREATED:20260306T202710Z
LAST-MODIFIED:20260306T203022Z
UID:2670-1773396000-1773406800@leanis.com
SUMMARY:Griddle Demo Cookout
DESCRIPTION:
URL:https://leanis.com/event/griddle-demo-cookout/
CATEGORIES:FMB Things To Do
END:VEVENT
BEGIN:VEVENT
DTSTART;TZID=UTC:20260313T080000
DTEND;TZID=UTC:20260313T130000
DTSTAMP:20260420T205127
CREATED:20260306T162421Z
LAST-MODIFIED:20260306T162421Z
UID:2581-1773388800-1773406800@leanis.com
SUMMARY:Produce Vendor 24karrot
DESCRIPTION:Stock up on all the local produce you need with 24karrots produce in the parking lot of Santini Plaza at 7205 Estero Blvd\, Fort Myers Beach\, FL.   Yummy dishes are just begging to be made!
URL:https://leanis.com/event/produce-vendor-24karrot-10/
CATEGORIES:Find it Where?
END:VEVENT
BEGIN:VEVENT
DTSTART;TZID=UTC:20260312T103000
DTEND;TZID=UTC:20260312T123000
DTSTAMP:20260420T205127
CREATED:20260305T233733Z
LAST-MODIFIED:20260306T005946Z
UID:2524-1773311400-1773318600@leanis.com
SUMMARY:Andrea Stetson Book Signing
DESCRIPTION:Come meet local author\, Andrea Stetson. Meet the bunnies that inspired her books and get her to sign her Lexi Lop books! Come visit her at Annette’s Book Nook!
URL:https://leanis.com/event/andrea-stetson-book-signing/
CATEGORIES:Book Signing
END:VEVENT
BEGIN:VEVENT
DTSTART;TZID=UTC:20260312T090000
DTEND;TZID=UTC:20260312T130000
DTSTAMP:20260420T205127
CREATED:20260305T191805Z
LAST-MODIFIED:20260306T005935Z
UID:2451-1773306000-1773320400@leanis.com
SUMMARY:Santini Farmers Market
DESCRIPTION:The seasonal Santini Farmers Market takes place every Tuesday and Thursday from November through April from 9 AM to 1 PM at Santini Plaza on the south end of Fort Myers Beach. Shop local vendors offering fresh produce\, baked goods\, artisan items\, handmade goods\, and other unique products while enjoying a relaxed outdoor market atmosphere.
URL:https://leanis.com/event/santini-farmers-market-2/
CATEGORIES:Farmers Market
END:VEVENT
BEGIN:VEVENT
DTSTART;TZID=UTC:20260312T080000
DTEND;TZID=UTC:20260312T130000
DTSTAMP:20260420T205127
CREATED:20260306T161937Z
LAST-MODIFIED:20260306T161937Z
UID:2576-1773302400-1773320400@leanis.com
SUMMARY:Produce Vendor 24karrot
DESCRIPTION:Stock up on all the local produce you need with 24karrots produce in the parking lot of Santini Plaza at 7205 Estero Blvd\, Fort Myers Beach\, FL.   Yummy dishes are just begging to be made!
URL:https://leanis.com/event/produce-vendor-24karrot-8/
CATEGORIES:Find it Where?
END:VEVENT
BEGIN:VEVENT
DTSTART;TZID=UTC:20260311T080000
DTEND;TZID=UTC:20260311T130000
DTSTAMP:20260420T205127
CREATED:20260306T161836Z
LAST-MODIFIED:20260306T161836Z
UID:2574-1773216000-1773234000@leanis.com
SUMMARY:Produce Vendor 24karrot
DESCRIPTION:Stock up on all the local produce you need with 24karrots produce in the parking lot of Santini Plaza at 7205 Estero Blvd\, Fort Myers Beach\, FL.   Yummy dishes are just begging to be made!
URL:https://leanis.com/event/produce-vendor-24karrot-7/
CATEGORIES:Find it Where?
END:VEVENT
BEGIN:VEVENT
DTSTART;TZID=UTC:20260310T100000
DTEND;TZID=UTC:20260310T130000
DTSTAMP:20260420T205127
CREATED:20260305T233443Z
LAST-MODIFIED:20260306T005926Z
UID:2522-1773136800-1773147600@leanis.com
SUMMARY:Barbara Perkins Book Signing
DESCRIPTION:Local author Barbara Perkins will be signing copies of her book “Spirits and Secrets” Come visit her at Annette’s Book Nook!
URL:https://leanis.com/event/barbara-perkins-book-signing/
CATEGORIES:Book Signing
END:VEVENT
BEGIN:VEVENT
DTSTART;TZID=UTC:20260310T090000
DTEND;TZID=UTC:20260310T130000
DTSTAMP:20260420T205127
CREATED:20260305T191520Z
LAST-MODIFIED:20260306T005916Z
UID:2448-1773133200-1773147600@leanis.com
SUMMARY:Santini Farmers Market
DESCRIPTION:The seasonal Santini Farmers Market takes place every Tuesday and Thursday from November through April from 9 AM to 1 PM at Santini Plaza on the south end of Fort Myers Beach. Shop local vendors offering fresh produce\, baked goods\, artisan items\, handmade goods\, and other unique products while enjoying a relaxed outdoor market atmosphere.
URL:https://leanis.com/event/santini-farmers-market/
CATEGORIES:Art Show
END:VEVENT
BEGIN:VEVENT
DTSTART;TZID=UTC:20260310T080000
DTEND;TZID=UTC:20260310T130000
DTSTAMP:20260420T205127
CREATED:20260306T161716Z
LAST-MODIFIED:20260306T161716Z
UID:2572-1773129600-1773147600@leanis.com
SUMMARY:Produce Vendor 24karrot
DESCRIPTION:Stock up on all the local produce you need with 24karrots produce in the parking lot of Santini Plaza at 7205 Estero Blvd\, Fort Myers Beach\, FL.   Yummy dishes are just begging to be made!
URL:https://leanis.com/event/produce-vendor-24karrot-6/
CATEGORIES:Find it Where?
END:VEVENT
BEGIN:VEVENT
DTSTART;TZID=UTC:20260307T080000
DTEND;TZID=UTC:20260307T130000
DTSTAMP:20260420T205127
CREATED:20260306T161126Z
LAST-MODIFIED:20260306T161126Z
UID:2570-1772870400-1772888400@leanis.com
SUMMARY:Produce Vendor 24karrot
DESCRIPTION:Stock up on all the local produce you need with 24karrots produce in the parking lot of Santini Plaza at 7205 Estero Blvd\, Fort Myers Beach\, FL.   Yummy dishes are just begging to be made!
URL:https://leanis.com/event/produce-vendor-24karrot-5/
CATEGORIES:Find it Where?
END:VEVENT
BEGIN:VEVENT
DTSTART;VALUE=DATE:20260307
DTEND;VALUE=DATE:20260309
DTSTAMP:20260420T205127
CREATED:20260306T010725Z
LAST-MODIFIED:20260306T191358Z
UID:2537-1772841600-1773014399@leanis.com
SUMMARY:Lions Shrimp Festival - 68th Annual
DESCRIPTION:The first Shrimp Festival was held in 1959. Today the local Fort Myers Beach Lions  sponsors the Shrimp Festival every year with the pride of knowing that tourists make their vacations plans around the Festival dates.  Beach businesses count on the revenue from the attention generating event and that there are residents who live and love the Festival as part of their local heritage. \nSchedule \n \n 
URL:https://leanis.com/event/lions-shrimp-festival/
CATEGORIES:Annual FMB Event
END:VEVENT
BEGIN:VEVENT
DTSTART;TZID=UTC:20260306T080000
DTEND;TZID=UTC:20260306T130000
DTSTAMP:20260420T205127
CREATED:20260306T165001Z
LAST-MODIFIED:20260306T165001Z
UID:2606-1772784000-1772802000@leanis.com
SUMMARY:Produce Vendor 24karrot
DESCRIPTION:Stock up on all the local produce you need with 24karrots produce in the parking lot of Santini Plaza at 7205 Estero Blvd\, Fort Myers Beach\, FL.   Yummy dishes are just begging to be made!
URL:https://leanis.com/event/produce-vendor-24karrot-22/
CATEGORIES:Farmers Market
END:VEVENT
BEGIN:VEVENT
DTSTART;TZID=UTC:20260306T080000
DTEND;TZID=UTC:20260306T130000
DTSTAMP:20260420T205127
CREATED:20260306T155809Z
LAST-MODIFIED:20260306T161610Z
UID:2564-1772784000-1772802000@leanis.com
SUMMARY:Produce Vendor 24karrot 
DESCRIPTION:Stock up on all the local produce you need with 24karrots produce in the parking lot of Santini Plaza at 7205 Estero Blvd\, Fort Myers Beach\, FL \nYummy dishes are just begging to be made!
URL:https://leanis.com/event/produce-vendor-24karrot-2/
CATEGORIES:Find it Where?
END:VEVENT
BEGIN:VEVENT
DTSTART;TZID=UTC:20260305T090000
DTEND;TZID=UTC:20260305T130000
DTSTAMP:20260420T205127
CREATED:20260305T191349Z
LAST-MODIFIED:20260306T010143Z
UID:2446-1772701200-1772715600@leanis.com
SUMMARY:Santini Farmers Market
DESCRIPTION:The seasonal Santini Farmers Market takes place every Tuesday and Thursday from November through April from 9 AM to 1 PM at Santini Plaza on the south end of Fort Myers Beach. Shop local vendors offering fresh produce\, baked goods\, artisan items\, handmade goods\, and other unique products while enjoying a relaxed outdoor market atmosphere. \nAdmission: Free
URL:https://leanis.com/event/santini-farmers-market-9am-1pm/
CATEGORIES:Art Show
END:VEVENT
BEGIN:VEVENT
DTSTART;TZID=UTC:20260305T080000
DTEND;TZID=UTC:20260305T130000
DTSTAMP:20260420T205127
CREATED:20260306T155925Z
LAST-MODIFIED:20260306T161532Z
UID:2566-1772697600-1772715600@leanis.com
SUMMARY:Produce Vendor 24karrot 
DESCRIPTION:Stock up on all the local produce you need with 24karrots produce in the parking lot of Santini Plaza at 7205 Estero Blvd\, Fort Myers Beach\, FL.   Yummy dishes are just begging to be made!
URL:https://leanis.com/event/produce-vendor-24karrot-3/
CATEGORIES:Find it Where?
END:VEVENT
BEGIN:VEVENT
DTSTART;TZID=UTC:20260304T080000
DTEND;TZID=UTC:20260304T130000
DTSTAMP:20260420T205127
CREATED:20260306T160056Z
LAST-MODIFIED:20260306T161228Z
UID:2568-1772611200-1772629200@leanis.com
SUMMARY:Produce Vendor 24karrot
DESCRIPTION:Stock up on all the local produce you need with 24karrots produce in the parking lot of Santini Plaza at 7205 Estero Blvd\, Fort Myers Beach\, FL.   Yummy dishes are just begging to be made!
URL:https://leanis.com/event/produce-vendor-24karrot-4/
CATEGORIES:Find it Where?
END:VEVENT
BEGIN:VEVENT
DTSTART;TZID=UTC:20260303T090000
DTEND;TZID=UTC:20260303T130000
DTSTAMP:20260420T205127
CREATED:20260305T194741Z
LAST-MODIFIED:20260306T005829Z
UID:2481-1772528400-1772542800@leanis.com
SUMMARY:Santini Farmers Market
DESCRIPTION:The seasonal Santini Farmers Market takes place every Tuesday and Thursday from November through April from 9 AM to 1 PM at Santini Plaza on the south end of Fort Myers Beach. Shop local vendors offering fresh produce\, baked goods\, artisan items\, handmade goods\, and other unique products while enjoying a relaxed outdoor market atmosphere.
URL:https://leanis.com/event/santini-farmers-market-17/
CATEGORIES:Farmers Market
END:VEVENT
BEGIN:VEVENT
DTSTART;TZID=UTC:20260303T080000
DTEND;TZID=UTC:20260303T130000
DTSTAMP:20260420T205127
CREATED:20260306T155208Z
LAST-MODIFIED:20260306T161356Z
UID:2562-1772524800-1772542800@leanis.com
SUMMARY:Produce Vendor 24karrot
DESCRIPTION:Stock up on all the local produce you need with 24karrots produce in the parking lot of Santini Plaza at 7205 Estero Blvd\, Fort Myers Beach\, FL.   Yummy dishes are just begging to be made!
URL:https://leanis.com/event/produce-vendor-24karrot/
CATEGORIES:Find it Where?
END:VEVENT
END:VCALENDAR