BEGIN:VCALENDAR
VERSION:2.0
PRODID:-//Leanis Fort Myers Beach - ECPv6.15.20//NONSGML v1.0//EN
CALSCALE:GREGORIAN
METHOD:PUBLISH
X-ORIGINAL-URL:https://leanis.com
X-WR-CALDESC:Events for Leanis Fort Myers Beach
REFRESH-INTERVAL;VALUE=DURATION:PT1H
X-Robots-Tag:noindex
X-PUBLISHED-TTL:PT1H
BEGIN:VTIMEZONE
TZID:UTC
BEGIN:STANDARD
TZOFFSETFROM:+0000
TZOFFSETTO:+0000
TZNAME:UTC
DTSTART:20250101T000000
END:STANDARD
END:VTIMEZONE
BEGIN:VEVENT
DTSTART;TZID=UTC:20260523T000000
DTEND;TZID=UTC:20260523T000000
DTSTAMP:20260420T170802
CREATED:20260330T194001Z
LAST-MODIFIED:20260330T195059Z
UID:2725-1779494400-1779494400@leanis.com
SUMMARY:Cars & Coffee Ft. Myers Beach
DESCRIPTION:
URL:https://leanis.com/event/cars-coffee-ft-myers-beach/
CATEGORIES:FMB Things To Do
END:VEVENT
BEGIN:VEVENT
DTSTART;TZID=UTC:20260620T000000
DTEND;TZID=UTC:20260620T000000
DTSTAMP:20260420T170802
CREATED:20260330T194109Z
LAST-MODIFIED:20260330T195052Z
UID:2727-1781913600-1781913600@leanis.com
SUMMARY:Cars & Coffee Ft. Myers Beach
DESCRIPTION:
URL:https://leanis.com/event/cars-coffee-ft-myers-beach-2/
CATEGORIES:FMB Things To Do
END:VEVENT
BEGIN:VEVENT
DTSTART;TZID=UTC:20260718T100000
DTEND;TZID=UTC:20260718T130000
DTSTAMP:20260420T170802
CREATED:20260330T194144Z
LAST-MODIFIED:20260330T195155Z
UID:2729-1784368800-1784379600@leanis.com
SUMMARY:Cars & Coffee Ft. Myers Beach
DESCRIPTION:
URL:https://leanis.com/event/cars-coffee-ft-myers-beach-3/
CATEGORIES:FMB Things To Do
END:VEVENT
BEGIN:VEVENT
DTSTART;TZID=UTC:20260815T100000
DTEND;TZID=UTC:20260815T130000
DTSTAMP:20260420T170802
CREATED:20260330T194230Z
LAST-MODIFIED:20260330T194930Z
UID:2731-1786788000-1786798800@leanis.com
SUMMARY:Cars & Coffee Ft. Myers Beach
DESCRIPTION:
URL:https://leanis.com/event/cars-coffee-ft-myers-beach-4/
CATEGORIES:FMB Things To Do
END:VEVENT
BEGIN:VEVENT
DTSTART;TZID=UTC:20260919T100000
DTEND;TZID=UTC:20260919T130000
DTSTAMP:20260420T170802
CREATED:20260330T194303Z
LAST-MODIFIED:20260330T195025Z
UID:2733-1789812000-1789822800@leanis.com
SUMMARY:Cars & Coffee Ft. Myers Beach
DESCRIPTION:
URL:https://leanis.com/event/cars-coffee-ft-myers-beach-5/
CATEGORIES:FMB Things To Do
END:VEVENT
BEGIN:VEVENT
DTSTART;TZID=UTC:20261107T080000
DTEND;TZID=UTC:20261107T170000
DTSTAMP:20260420T170802
CREATED:20260306T012212Z
LAST-MODIFIED:20260306T012212Z
UID:2548-1794038400-1794070800@leanis.com
SUMMARY:Paper Lantern Parade
DESCRIPTION:Hosted by What’s Up FMB\, the Illuminations Parade lights up Fort Myers Beach each November with glowing floats\, twinkling lanterns\, and festive island spirit. This magical nighttime parade brings together businesses\, families\, and visitors to celebrate creativity\, community\, and the start of the holiday season—FMB style.
URL:https://leanis.com/event/paper-lantern-parade/
CATEGORIES:FMB Things To Do
END:VEVENT
END:VCALENDAR