BEGIN:VCALENDAR
VERSION:2.0
PRODID:-//Leanis Fort Myers Beach - ECPv6.15.20//NONSGML v1.0//EN
CALSCALE:GREGORIAN
METHOD:PUBLISH
X-WR-CALNAME:Leanis Fort Myers Beach
X-ORIGINAL-URL:https://leanis.com
X-WR-CALDESC:Events for Leanis Fort Myers Beach
REFRESH-INTERVAL;VALUE=DURATION:PT1H
X-Robots-Tag:noindex
X-PUBLISHED-TTL:PT1H
BEGIN:VTIMEZONE
TZID:UTC
BEGIN:STANDARD
TZOFFSETFROM:+0000
TZOFFSETTO:+0000
TZNAME:UTC
DTSTART:20250101T000000
END:STANDARD
END:VTIMEZONE
BEGIN:VEVENT
DTSTART;TZID=UTC:20261107T080000
DTEND;TZID=UTC:20261107T170000
DTSTAMP:20260421T003207
CREATED:20260306T012212Z
LAST-MODIFIED:20260306T012212Z
UID:2548-1794038400-1794070800@leanis.com
SUMMARY:Paper Lantern Parade
DESCRIPTION:Hosted by What’s Up FMB\, the Illuminations Parade lights up Fort Myers Beach each November with glowing floats\, twinkling lanterns\, and festive island spirit. This magical nighttime parade brings together businesses\, families\, and visitors to celebrate creativity\, community\, and the start of the holiday season—FMB style.
URL:https://leanis.com/event/paper-lantern-parade/
CATEGORIES:FMB Things To Do
END:VEVENT
END:VCALENDAR