BEGIN:VCALENDAR
VERSION:2.0
PRODID:-//Leanis Fort Myers Beach - ECPv6.15.20//NONSGML v1.0//EN
CALSCALE:GREGORIAN
METHOD:PUBLISH
X-WR-CALNAME:Leanis Fort Myers Beach
X-ORIGINAL-URL:https://leanis.com
X-WR-CALDESC:Events for Leanis Fort Myers Beach
REFRESH-INTERVAL;VALUE=DURATION:PT1H
X-Robots-Tag:noindex
X-PUBLISHED-TTL:PT1H
BEGIN:VTIMEZONE
TZID:UTC
BEGIN:STANDARD
TZOFFSETFROM:+0000
TZOFFSETTO:+0000
TZNAME:UTC
DTSTART:20250101T000000
END:STANDARD
END:VTIMEZONE
BEGIN:VEVENT
DTSTART;TZID=UTC:20260321T100000
DTEND;TZID=UTC:20260321T150000
DTSTAMP:20260420T181726
CREATED:20260305T210411Z
LAST-MODIFIED:20260306T010019Z
UID:2515-1774087200-1774105200@leanis.com
SUMMARY:Art Bazaar Show 2026
DESCRIPTION:The Ft. Myers Beach Art Association Art Bazaar will be held on April 11th\, 2026. The talented artisans vendors will sell a wide variety of art\, gifts\, jewelry\, clothing and more.   For more information visit:  https://fortmyersbeachart.com/
URL:https://leanis.com/event/art-show/
CATEGORIES:Art Show
END:VEVENT
END:VCALENDAR