BEGIN:VCALENDAR
VERSION:2.0
PRODID:-//Leanis Fort Myers Beach - ECPv6.15.20//NONSGML v1.0//EN
CALSCALE:GREGORIAN
METHOD:PUBLISH
X-ORIGINAL-URL:https://leanis.com
X-WR-CALDESC:Events for Leanis Fort Myers Beach
REFRESH-INTERVAL;VALUE=DURATION:PT1H
X-Robots-Tag:noindex
X-PUBLISHED-TTL:PT1H
BEGIN:VTIMEZONE
TZID:UTC
BEGIN:STANDARD
TZOFFSETFROM:+0000
TZOFFSETTO:+0000
TZNAME:UTC
DTSTART:20250101T000000
END:STANDARD
END:VTIMEZONE
BEGIN:VEVENT
DTSTART;TZID=UTC:20261205T180000
DTEND;TZID=UTC:20261205T200000
DTSTAMP:20260420T220317
CREATED:20260306T012559Z
LAST-MODIFIED:20260306T012559Z
UID:2552-1796493600-1796500800@leanis.com
SUMMARY:38th Annual Fort Myers Beach Christmas Boat Parade
DESCRIPTION:The annual Fort Myers Beach Chamber of Commerce Christmas Boat Parade lights up the back bay waterways each December with beautifully decorated vessels gliding across the waterway. Boats assemble at Salty Sam’s Marina\, depart at 6:00 PM\, and travel past waterfront restaurants\, the Matanzas Pass Bridge and Siesta Isles canals—creating a festive\, floating light display for all to enjoy.
URL:https://leanis.com/event/38th-annual-fort-myers-beach-christmas-boat-parade/
CATEGORIES:Annual FMB Event
END:VEVENT
END:VCALENDAR