BEGIN:VCALENDAR
VERSION:2.0
PRODID:-//Leanis Fort Myers Beach - ECPv6.15.20//NONSGML v1.0//EN
CALSCALE:GREGORIAN
METHOD:PUBLISH
X-ORIGINAL-URL:https://leanis.com
X-WR-CALDESC:Events for Leanis Fort Myers Beach
REFRESH-INTERVAL;VALUE=DURATION:PT1H
X-Robots-Tag:noindex
X-PUBLISHED-TTL:PT1H
BEGIN:VTIMEZONE
TZID:UTC
BEGIN:STANDARD
TZOFFSETFROM:+0000
TZOFFSETTO:+0000
TZNAME:UTC
DTSTART:20250101T000000
END:STANDARD
END:VTIMEZONE
BEGIN:VEVENT
DTSTART;TZID=UTC:20260326T080000
DTEND;TZID=UTC:20260326T130000
DTSTAMP:20260420T155540
CREATED:20260306T164642Z
LAST-MODIFIED:20260306T164642Z
UID:2600-1774512000-1774530000@leanis.com
SUMMARY:Produce Vendor 24karrot
DESCRIPTION:Stock up on all the local produce you need with 24karrots produce in the parking lot of Santini Plaza at 7205 Estero Blvd\, Fort Myers Beach\, FL.   Yummy dishes are just begging to be made!
URL:https://leanis.com/event/produce-vendor-24karrot-19/
CATEGORIES:Find it Where?
END:VEVENT
BEGIN:VEVENT
DTSTART;TZID=UTC:20260326T090000
DTEND;TZID=UTC:20260326T130000
DTSTAMP:20260420T155540
CREATED:20260305T193711Z
LAST-MODIFIED:20260306T010031Z
UID:2459-1774515600-1774530000@leanis.com
SUMMARY:Santini Farmers Market
DESCRIPTION:The seasonal Santini Farmers Market takes place every Tuesday and Thursday from November through April from 9 AM to 1 PM at Santini Plaza on the south end of Fort Myers Beach. Shop local vendors offering fresh produce\, baked goods\, artisan items\, handmade goods\, and other unique products while enjoying a relaxed outdoor market atmosphere.
URL:https://leanis.com/event/santini-farmers-market-6/
CATEGORIES:Farmers Market
END:VEVENT
BEGIN:VEVENT
DTSTART;TZID=UTC:20260326T100000
DTEND;TZID=UTC:20260326T130000
DTSTAMP:20260420T155540
CREATED:20260306T003819Z
LAST-MODIFIED:20260306T010037Z
UID:2532-1774519200-1774530000@leanis.com
SUMMARY:Sharon Wagner Book Signing
DESCRIPTION:Sharon Wagner is an award winning author\, inexhaustible travel blogger\, and illustrator of children’s books\, including Maya Monkey.  Come meet her during Annette’s Book Nook book signing event!
URL:https://leanis.com/event/sharon-wagner-book-signing/
CATEGORIES:Book Signing
END:VEVENT
END:VCALENDAR